BEGIN:VCALENDAR
VERSION:2.0
PRODID:-//KL Events Calendar - ECPv6.15.20//NONSGML v1.0//EN
CALSCALE:GREGORIAN
METHOD:PUBLISH
X-WR-CALNAME:KL Events Calendar
X-ORIGINAL-URL:https://kleventscalendar.my
X-WR-CALDESC:Events for KL Events Calendar
REFRESH-INTERVAL;VALUE=DURATION:PT1H
X-Robots-Tag:noindex
X-PUBLISHED-TTL:PT1H
BEGIN:VTIMEZONE
TZID:Asia/Kuala_Lumpur
BEGIN:STANDARD
TZOFFSETFROM:+0800
TZOFFSETTO:+0800
TZNAME:+08
DTSTART:20240101T000000
END:STANDARD
END:VTIMEZONE
BEGIN:VEVENT
DTSTART;TZID=Asia/Kuala_Lumpur:20251205T100000
DTEND;TZID=Asia/Kuala_Lumpur:20251219T180000
DTSTAMP:20260419T231106
CREATED:20251205T094103Z
LAST-MODIFIED:20251205T094103Z
UID:10000401-1764928800-1766167200@kleventscalendar.my
SUMMARY:art against AIDS Exhibition 2025
DESCRIPTION:The art against AIDS 2025 Exhibition is here! \nVisit us from 5 – 19 December\, 10 AM – 6 PM at The Venue\, ONE Bangsar to view this year’s curated selection of artworks. \nSpecial Exhibition Hours: \nOn 7\, 13 & 14 December\, the exhibition will open exclusively from 5 PM – 9 PM to make way for our AAA Charity Concerts earlier in the day. This marks the first time ever AAA opens its doors in the evening — a unique after-hours art experience you won’t want to miss. \nCome explore and support a cause that matters. ❤️ \nAdmission is free and open to all!
URL:https://kleventscalendar.my/event/art-against-aids-exhibition-2025/
LOCATION:The Venue @ One Bangsar\, 63\, Jalan Ara\, Bangsar\, Kuala Lumpur\, Wilayah Persekutuan Kuala Lumpur\, 59100\, Malaysia
CATEGORIES:Art & Literature,Health & Wellness
END:VEVENT
BEGIN:VEVENT
DTSTART;TZID=Asia/Kuala_Lumpur:20251213T103000
DTEND;TZID=Asia/Kuala_Lumpur:20260110T123000
DTSTAMP:20260419T231106
CREATED:20251121T104948Z
LAST-MODIFIED:20251121T105323Z
UID:10000360-1765621800-1768048200@kleventscalendar.my
SUMMARY:紫藤茶艺课程（基础班）
DESCRIPTION:生活因为有茶香既温暖又芬芳。 \n这是5 天的课程，每个星期上课2小时，另加泡茶练习1个小时。 \n这是为对茶艺有兴趣的人士而设计的茶艺基础班，希望大家了解茶叶、砂壶、泡法及享用等各方面的知识，进而增加生活趣味。\n1. 制茶课\n2. 泡茶课\n3. 茶器、砂壶课\n4. 茶文化史课\n5. 茶席、茶会课 \n13/12/2025 (Sat) 10:30-12:30 制茶课\n20/12/2025 (Sat) 10:30-13:30 泡茶课\n27/12/2025 (Sat) 10:30-13:30 茶器、砂壶课\n03/01/2026 (Sat) 10:30-13:30 茶文化史课\n10/01/2026 (Sat) 10:30-12:30 茶席、茶会课 \n学费：RM600 / 5堂 / 13 小时 \n上課地點：Lot L1-01\, 1st Floor\, Shaw Parade\, Changkat Thambi Dollar\, 55100 Kuala Lumpur. \n询问热线： 017-2691200 \n报名表格：https://bit.ly/TArtForm
URL:https://kleventscalendar.my/event/%e7%b4%ab%e8%97%a4%e8%8c%b6%e8%89%ba%e8%af%be%e7%a8%8b%ef%bc%88%e5%9f%ba%e7%a1%80%e7%8f%ad%ef%bc%89/
LOCATION:紫藤茶艺学习中心 Purple Cane Tea Art Learning Center\, Lot L1-01\, 1st Floor\, Shaw Parade\, Changkat Thambi Dollah\, Kuala Lumpur\, Wilayah Persekutuan Kuala Lumpur\, 55100\, Malaysia
CATEGORIES:Art & Literature,Culture & Heritage
END:VEVENT
BEGIN:VEVENT
DTSTART;TZID=Asia/Kuala_Lumpur:20251219T203000
DTEND;TZID=Asia/Kuala_Lumpur:20251221T170000
DTSTAMP:20260419T231106
CREATED:20251205T104749Z
LAST-MODIFIED:20251205T104827Z
UID:10000403-1766176200-1766336400@kleventscalendar.my
SUMMARY:Teater Muzikal Masmoona
DESCRIPTION:Teater Masmoona menceritakan tentang perjalanan seorang anak muda bernama Bakti yang cuba untuk mencari jalan serta makna hidup. Perhentian pertamanya di Jalan Chow Kit \, Kuala Lumpur membawa dia mengenali seorang gadis bernama Masmoona. \n——————– \nTeater Masmoona dibintangi oleh Fadhli Masoot\, Shazia Rozaini\, Nabila Huda\, Danial Zaini\, D’Boy Hamdan\, Taiyuddin Bakar serta Shasha Fairus. Berlangsung dari 19-21 Disember 2025 di M Theatre\, Mahsa Avenue. Persembahan istimewa yang diterbitkan oleh Storyteller Production.
URL:https://kleventscalendar.my/event/teater-muzikal-masmoona/
LOCATION:M Theatre \, MAHSA Avenue\, Jalan Ilmu\, Kuala Lumpur\, Wilayah Persekutuan Kuala Lumpur\, 59100\, Malaysia
CATEGORIES:Performing Arts
END:VEVENT
END:VCALENDAR