BEGIN:VCALENDAR
VERSION:2.0
PRODID:-//KL Events Calendar - ECPv6.15.20//NONSGML v1.0//EN
CALSCALE:GREGORIAN
METHOD:PUBLISH
X-ORIGINAL-URL:https://kleventscalendar.my
X-WR-CALDESC:Events for KL Events Calendar
REFRESH-INTERVAL;VALUE=DURATION:PT1H
X-Robots-Tag:noindex
X-PUBLISHED-TTL:PT1H
BEGIN:VTIMEZONE
TZID:Asia/Kuala_Lumpur
BEGIN:STANDARD
TZOFFSETFROM:+0800
TZOFFSETTO:+0800
TZNAME:+08
DTSTART:20240101T000000
END:STANDARD
END:VTIMEZONE
BEGIN:VEVENT
DTSTART;TZID=Asia/Kuala_Lumpur:20250912T110000
DTEND;TZID=Asia/Kuala_Lumpur:20250914T220000
DTSTAMP:20260420T150807
CREATED:20250819T131856Z
LAST-MODIFIED:20250902T060025Z
UID:10000267-1757674800-1757887200@kleventscalendar.my
SUMMARY:Reptile & Exotic Bazaar 2025
DESCRIPTION:Experience the fascinating world of reptiles at the Reptile Notes Exhibition 2025! \nDiscover exotic reptiles\, bioactive terrariums\, educational talks\, and unique pet supplies – all in one place! \nPerfect for reptile lovers\, families\, and anyone curious about nature. ✨ What to Expect:\n• Live reptiles & rare species showcase\n• Bioactive terrarium & enclosure designs\n• Reptile care & handling tips from experts\n• Unique reptile products & accessories for sale\n• Fun activities for kids & families \nVenue: KL Gateway Mall\nDate: 12-14 September 2025\nTime: 11am – 10pm
URL:https://kleventscalendar.my/event/reptile-exotic-bazaar-2025/
LOCATION:KL Gateway Mall\, Lot L3.01 & 02\, 2\, Jalan Kerinchi\, Kampung Kerinchi\, Kuala Lumpur\, Wilayah Persekutuan Kuala Lumpur\, 59200\, Malaysia
CATEGORIES:Pets & Animals
END:VEVENT
BEGIN:VEVENT
DTSTART;TZID=Asia/Kuala_Lumpur:20251003T100000
DTEND;TZID=Asia/Kuala_Lumpur:20251005T220000
DTSTAMP:20260420T150807
CREATED:20250902T055917Z
LAST-MODIFIED:20250902T060009Z
UID:10000299-1759485600-1759701600@kleventscalendar.my
SUMMARY:Ekspo Kucing Edisi ke-8 @ MITEC\, KL
DESCRIPTION:Meow alert! Ada yg rindu nak cuci mata tengok kucing comel\, shopping barang bulus\, dan layan vibes dunia si comel?    edisi ke-8 bakal kembali dan kali ni berlangsung di MITEC\, Kuala Lumpur – lokasi gah\, acara pun mesti lagi meow!  \nTapi… itu baru sikit. Banyak lagi yang kami belum reveal. \nStay tuned.\nJangan scroll laju sangat.\nSesuatu yang gebu akan meow dalam hidup anda tak lama lagi. \nJom gaiss\, jumpa nanti di  \nTarikh: 3-5 Oktober 2025\nMasa: 10pagi – 9malam\nLokasi: MITEC\, Kuala Lumpur\nHarga Tiket: RM5 untuk dewasa\n(PERCUMA untuk kanak-kanak di bawah 12 tahun dan warga emas berumur 60 tahun ke atas)
URL:https://kleventscalendar.my/event/ekspo-kucing-edisi-ke-8-mitec-kl/
LOCATION:Malaysia International Trade and Exhibition Centre (MITEC)\, 8 Jalan Dutamas 2\, Segambut\, Kuala Lumpur\, 50480\, Wilayah Persekutuan Kuala Lumpur\, Malaysia
CATEGORIES:Pets & Animals
END:VEVENT
BEGIN:VEVENT
DTSTART;TZID=Asia/Kuala_Lumpur:20251211T110000
DTEND;TZID=Asia/Kuala_Lumpur:20251214T220000
DTSTAMP:20260420T150807
CREATED:20251119T152038Z
LAST-MODIFIED:20251119T152038Z
UID:10000356-1765450800-1765749600@kleventscalendar.my
SUMMARY:Oh My Pet Expo - Kuala Lumpur Dec 2025
DESCRIPTION:More Brands • More Deals • More Fun!\nFREE Entry for Everyone! \nHo Ho Ho! OH MY PET! EXPO 2025 is Back — Bigger\, Better & Cuter Than Ever!  \nGet ready for a unique pet lifestyle experience packed with amazing deals\, games\, giveaways\, and fun activities for you and your furry (or scaly!) friends! \nMid Valley Exhibition Centre (Hall 1–3)\, Kuala Lumpur\n11–14 December 2025 | 11AM–10PM \nOpen to Public for 4 Days! \nDon’t miss the most paw-some event of the year — it’s going to be a tail-wagging good time!
URL:https://kleventscalendar.my/event/oh-my-pet-expo-kuala-lumpur-dec-2025/
LOCATION:Mid Valley Exhibition Centre (MVEC KL)\, Third Floor (3F) @ Mid Valley Megamall\, Centre Court\, Lingkaran Syed Putra\, Mid Valley City\, Wilayah Persekutuan Kuala Lumpur\, 59200\, Malaysia
CATEGORIES:Pets & Animals
END:VEVENT
BEGIN:VEVENT
DTSTART;TZID=Asia/Kuala_Lumpur:20260110T100000
DTEND;TZID=Asia/Kuala_Lumpur:20260111T170000
DTSTAMP:20260420T150807
CREATED:20260110T123800Z
LAST-MODIFIED:20260110T123800Z
UID:10000477-1768039200-1768150800@kleventscalendar.my
SUMMARY:National MEOW Championship
DESCRIPTION:CASH PRIZES RM10\,000!\nNational MEOW Championship – THE GRAND FINALE 2026 by Kelab MEOW United (KMU)\nDate : 10th & 11th January 2026\nVenue : Main Atrium – Ground Floor\, Mitsui Shopping Park LaLaport BBCC Kuala Lumpur.
URL:https://kleventscalendar.my/event/national-meow-championship/
LOCATION:LaLaport Bukit Bintang City Centre\, 2\, Jln Hang Tuah\, Bukit Bintang\, Kuala Lumpur\, Wilayah Persekutuan Kuala Lumpur\, 55100\, Malaysia
CATEGORIES:Pets & Animals
END:VEVENT
BEGIN:VEVENT
DTSTART;TZID=Asia/Kuala_Lumpur:20260403T110000
DTEND;TZID=Asia/Kuala_Lumpur:20260405T210000
DTSTAMP:20260420T150807
CREATED:20260126T052227Z
LAST-MODIFIED:20260126T052713Z
UID:10000527-1775214000-1775422800@kleventscalendar.my
SUMMARY:Reptile & Exotic Bazaar 2.0
DESCRIPTION:🦎 Reptile & Exotic Bazaar 2.0\nReptile Notes 2.0｜Bearded Dragon Chapter \n📍 Location\nKL Gateway Mall \n📅 Date\n3 – 5 April 2026 (Friday – Sunday) \n⏰ Time\n11:00 AM – 9:00 PM \n⸻ \n🐍 About the Event \nReptile & Exotic Bazaar 2.0 is back!\nThis time\, Reptile Notes 2.0 proudly presents a special chapter dedicated to one of the most beloved exotic pets — the Bearded Dragon 🦎 \nWhether you are a first-time reptile keeper\, an experienced enthusiast\, or simply curious to learn more about exotic animals\, this event is designed to be a space for learning\, sharing\, and responsible keeping. \n⸻ \n✨ What to Expect \n🦎 A variety of reptiles and exotic pet–related showcases\n🛒 Reptile supplies\, enclosures\, equipment & accessories\n📚 Educational sharing on proper care and husbandry\n🤝 Meet breeders\, keepers\, and fellow reptile enthusiasts\n👨‍👩‍👧‍👦 A beginner- and family-friendly environment \nWe strongly promote Responsible Keeping —\nno impulse buying\, learn first\, decide later. \n⸻\n❤️ The Reptile Notes Commitment \nReptile Notes is more than just a bazaar.\nOur mission is to help people understand reptiles better\, respect life\, and reduce improper keeping practices through education and awareness. \nEvery event is a new page in our journey.\nWe invite you to be part of this chapter.
URL:https://kleventscalendar.my/event/reptile-exotic-bazaar-2-0/
LOCATION:KL Gateway Mall\, Lot L3.01 & 02\, 2\, Jalan Kerinchi\, Kampung Kerinchi\, Kuala Lumpur\, Wilayah Persekutuan Kuala Lumpur\, 59200\, Malaysia
CATEGORIES:Bazaar, Fair & Market,Pets & Animals
ATTACH;FMTTYPE=image/jpeg:https://kleventscalendar.my/wp-content/uploads/2026/01/Reptile-Notes-2.0.jpg
END:VEVENT
END:VCALENDAR