BEGIN:VCALENDAR
VERSION:2.0
PRODID:-//KL Events Calendar - ECPv6.15.20//NONSGML v1.0//EN
CALSCALE:GREGORIAN
METHOD:PUBLISH
X-WR-CALNAME:KL Events Calendar
X-ORIGINAL-URL:https://kleventscalendar.my
X-WR-CALDESC:Events for KL Events Calendar
REFRESH-INTERVAL;VALUE=DURATION:PT1H
X-Robots-Tag:noindex
X-PUBLISHED-TTL:PT1H
BEGIN:VTIMEZONE
TZID:Asia/Kuala_Lumpur
BEGIN:STANDARD
TZOFFSETFROM:+0800
TZOFFSETTO:+0800
TZNAME:+08
DTSTART:20240101T000000
END:STANDARD
END:VTIMEZONE
BEGIN:VEVENT
DTSTART;TZID=Asia/Kuala_Lumpur:20250912T110000
DTEND;TZID=Asia/Kuala_Lumpur:20250914T220000
DTSTAMP:20260420T094929
CREATED:20250819T131856Z
LAST-MODIFIED:20250902T060025Z
UID:10000267-1757674800-1757887200@kleventscalendar.my
SUMMARY:Reptile & Exotic Bazaar 2025
DESCRIPTION:Experience the fascinating world of reptiles at the Reptile Notes Exhibition 2025! \nDiscover exotic reptiles\, bioactive terrariums\, educational talks\, and unique pet supplies – all in one place! \nPerfect for reptile lovers\, families\, and anyone curious about nature. ✨ What to Expect:\n• Live reptiles & rare species showcase\n• Bioactive terrarium & enclosure designs\n• Reptile care & handling tips from experts\n• Unique reptile products & accessories for sale\n• Fun activities for kids & families \nVenue: KL Gateway Mall\nDate: 12-14 September 2025\nTime: 11am – 10pm
URL:https://kleventscalendar.my/event/reptile-exotic-bazaar-2025/
LOCATION:KL Gateway Mall\, Lot L3.01 & 02\, 2\, Jalan Kerinchi\, Kampung Kerinchi\, Kuala Lumpur\, Wilayah Persekutuan Kuala Lumpur\, 59200\, Malaysia
CATEGORIES:Pets & Animals
END:VEVENT
END:VCALENDAR