BEGIN:VCALENDAR
VERSION:2.0
PRODID:-//KL Events Calendar - ECPv6.15.20//NONSGML v1.0//EN
CALSCALE:GREGORIAN
METHOD:PUBLISH
X-WR-CALNAME:KL Events Calendar
X-ORIGINAL-URL:https://kleventscalendar.my
X-WR-CALDESC:Events for KL Events Calendar
REFRESH-INTERVAL;VALUE=DURATION:PT1H
X-Robots-Tag:noindex
X-PUBLISHED-TTL:PT1H
BEGIN:VTIMEZONE
TZID:Asia/Kuala_Lumpur
BEGIN:STANDARD
TZOFFSETFROM:+0800
TZOFFSETTO:+0800
TZNAME:+08
DTSTART:20250101T000000
END:STANDARD
END:VTIMEZONE
BEGIN:VEVENT
DTSTART;TZID=Asia/Kuala_Lumpur:20260506T093000
DTEND;TZID=Asia/Kuala_Lumpur:20260531T113000
DTSTAMP:20260419T201920
CREATED:20260323T153514Z
LAST-MODIFIED:20260323T153514Z
UID:10000636-1778059800-1780227000@kleventscalendar.my
SUMMARY:East-West Connection Walk: Tales of Sultans\, Chinese Kapitans\, and Colonial Times
DESCRIPTION:The East-West Connection walk takes you around the historic colonial quarter of Kuala Lumpur. It’s a leisurely two-hour walk\, ideal for individuals and families. This East-West Connection walk is tip-based. On average\, people have been tipping our knowledgeable guides between RM50 and RM65 per person. \nThis walk gives you the opportunity to hear the fascinating story of the origins of Kuala Lumpur and experience first hand the area’s rich and diverse culture. You’ll hear about the city’s early settlements along the river bank and its eclectic architectural heritage. \nOur licensed tourist guides will show you the majestic colonial buildings and the contrasting pre-war shophouses\, and explain their history. You’ll hear tales of historic events and learn about the pioneers who shaped Kuala Lumpur in its early days. \nThe walk is eco-friendly; you’ll be leaving no carbon footprint as you stroll around the streets. \n———————————————- \nEast-West Connection Walk membawa anda berjalan-jalan di sekitar kuaters kolonial bersejarah Kuala Lumpur. Acara santai mengambil masa selama dua jam—sesuai untuk individu dan seisi keluarga. Penyertaan East-West Connection Walk adalah berdasarkan sumbangan. Secara purata\, orang ramai telah memberi sumbangan kepada pemandu kami yang berpengalaman sebanyak RM50 hingga RM65 setiap seorang. \nAcara ini memberi anda peluang untuk mendengar cerita-cerita menarik tentang asal-usul Kuala Lumpur serta mengalami sendiri budaya yang kaya dan pelbagai di sekitar kawasan ini. Dengarkan bagaimana penempatan awal dahulu bertapak di tebing-tebing sungai dan kepelbagaian warisan seni bina Kuala Lumpur yang indah. \nPemandu pelancong kami yang bertauliah akan tunjuk dan ceritakan sejarah antara kemegahan bangunan kolonial dan rumah-rumah kedai zaman pra-perang yang sederhana. Anda akan mengetahui peristiwa bersejarah dan mengenali nama-nama tokoh yang membentuk Kuala Lumpur suatu ketika dahulu. \nAcara ini mesra-alam; anda tidak akan meninggalkan tapak karbon ketika anda bersiar-siar di kawasan sekitar.
URL:https://kleventscalendar.my/event/east-west-connection-walk-tales-of-sultans-chinese-kapitans-and-colonial-times/
LOCATION:Cosmo Hotel Kuala Lumpur\, 13 15\, Lebuh Ampang\, Kuala Lumpur\, Wilayah Persekutuan Kuala Lumpur\, 50050\, Malaysia
CATEGORIES:Culture & Heritage,Travel
ATTACH;FMTTYPE=image/jpeg:https://kleventscalendar.my/wp-content/uploads/2026/03/East-West-Connection.jpg
END:VEVENT
END:VCALENDAR