BEGIN:VCALENDAR
VERSION:2.0
PRODID:-//KL Events Calendar - ECPv6.15.20//NONSGML v1.0//EN
CALSCALE:GREGORIAN
METHOD:PUBLISH
X-WR-CALNAME:KL Events Calendar
X-ORIGINAL-URL:https://kleventscalendar.my
X-WR-CALDESC:Events for KL Events Calendar
REFRESH-INTERVAL;VALUE=DURATION:PT1H
X-Robots-Tag:noindex
X-PUBLISHED-TTL:PT1H
BEGIN:VTIMEZONE
TZID:Asia/Kuala_Lumpur
BEGIN:STANDARD
TZOFFSETFROM:+0800
TZOFFSETTO:+0800
TZNAME:+08
DTSTART:20250101T000000
END:STANDARD
END:VTIMEZONE
BEGIN:VEVENT
DTSTART;TZID=Asia/Kuala_Lumpur:20260101T180000
DTEND;TZID=Asia/Kuala_Lumpur:20260103T220000
DTSTAMP:20260420T193704
CREATED:20251230T164017Z
LAST-MODIFIED:20260102T022547Z
UID:10000461-1767290400-1767477600@kleventscalendar.my
SUMMARY:‘I Lite U’ Festival @ Jalan Bukit Bintang
DESCRIPTION:Kuala Lumpur’s most recognisable shopping strip will be fully closed on two nights in early January to make way for the dry run and official launch of the “I Lite U” Festival 2026 Lighting Programme. \nKuala Lumpur Traffic Investigation and Enforcement Department chief\, Asst Comm Mohd Zamzuri Mohd Isa\, said Jalan Bukit Bintang would be closed in stages for a rehearsal on January 1 and for the main event on January 3. \n“A rehearsal for this programme will be held on January 1 from 6pm onwards\, which will involve a full closure of Jalan Bukit Bintang from Pavilion to the Federal Hotel\,” he said in a statement today. \n“The official event will take place on January 3 from 7.30pm to 10pm\, involving a full closure of Jalan Bukit Bintang from Pavilion to the Federal Hotel\,” he added. \nSource: Malay Mail
URL:https://kleventscalendar.my/event/i-lite-u-festival-jalan-bukit-bintang/
LOCATION:Jalan Bukit Bintang\, Kuala Lumpur\, Wilayah Persekutuan Kuala Lumpur\, 55100\, Malaysia
CATEGORIES:Community
END:VEVENT
END:VCALENDAR