BEGIN:VCALENDAR
VERSION:2.0
PRODID:-//KL Events Calendar - ECPv6.15.20//NONSGML v1.0//EN
CALSCALE:GREGORIAN
METHOD:PUBLISH
X-ORIGINAL-URL:https://kleventscalendar.my
X-WR-CALDESC:Events for KL Events Calendar
REFRESH-INTERVAL;VALUE=DURATION:PT1H
X-Robots-Tag:noindex
X-PUBLISHED-TTL:PT1H
BEGIN:VTIMEZONE
TZID:Asia/Kuala_Lumpur
BEGIN:STANDARD
TZOFFSETFROM:+0800
TZOFFSETTO:+0800
TZNAME:+08
DTSTART:20250101T000000
END:STANDARD
END:VTIMEZONE
BEGIN:VEVENT
DTSTART;TZID=Asia/Kuala_Lumpur:20260425T103000
DTEND;TZID=Asia/Kuala_Lumpur:20260425T160000
DTSTAMP:20260424T164009
CREATED:20260420T063710Z
LAST-MODIFIED:20260420T063710Z
UID:10000692-1777113000-1777132800@kleventscalendar.my
SUMMARY:The Weekend Japanese Film Show in April - DEMON POND
DESCRIPTION:“DEMON POND” the pond in Echizen (Fukui prefecture)\, surrounded by the mountains of Mikuni Pass. A Dragon God is sealed in the pond\, unless the bell near the pond is rung three times everyday\, the Dragon God will go on a wild rampage and the village will suffer a great flood. The man and wife who tended the bell lived peacefully and happily…but their peaceful life suddenly came to an end as the world of fantasy and mystery develops. \nScreening Information \nDate: 25 April 2026 (Saturday) \nTime: 10:30AM & 1:00PM  \nVenue: GSC Mid Valley\, Kuala Lumpur
URL:https://kleventscalendar.my/event/the-weekend-japanese-film-show-in-april-demon-pond/
LOCATION:Mid Valley Megamall\, Lingkaran Syed Putra\, Mid Valley City\, Kuala Lumpur\, Wilayah Persekutuan Kuala Lumpur\, 59200\, Malaysia
CATEGORIES:Culture & Heritage,Entertainment
ATTACH;FMTTYPE=image/jpeg:https://kleventscalendar.my/wp-content/uploads/2026/04/The-Weekend-Japanese-Film-Show-in-April-DEMON-POND-scaled.jpg
END:VEVENT
END:VCALENDAR