BEGIN:VCALENDAR
VERSION:2.0
PRODID:-//KL Events Calendar - ECPv6.15.20//NONSGML v1.0//EN
CALSCALE:GREGORIAN
METHOD:PUBLISH
X-WR-CALNAME:KL Events Calendar
X-ORIGINAL-URL:https://kleventscalendar.my
X-WR-CALDESC:Events for KL Events Calendar
REFRESH-INTERVAL;VALUE=DURATION:PT1H
X-Robots-Tag:noindex
X-PUBLISHED-TTL:PT1H
BEGIN:VTIMEZONE
TZID:Asia/Kuala_Lumpur
BEGIN:STANDARD
TZOFFSETFROM:+0800
TZOFFSETTO:+0800
TZNAME:+08
DTSTART:20240101T000000
END:STANDARD
END:VTIMEZONE
BEGIN:VEVENT
DTSTART;TZID=Asia/Kuala_Lumpur:20251205T100000
DTEND;TZID=Asia/Kuala_Lumpur:20251221T220000
DTSTAMP:20260423T003847
CREATED:20251127T131350Z
LAST-MODIFIED:20251127T131419Z
UID:10000383-1764928800-1766354400@kleventscalendar.my
SUMMARY:The Holiday Pop-Up 2025 @ MyTOWNKL
DESCRIPTION:This December\, step into the festive spirit at our Holiday Pop-Up\, your go-to destination for Christmas cheer\, year-end fun\, and joyful shopping. Celebrate the season with a curated mix of handcrafted gifts\, artisanal treats\, festive décor\, and unique finds perfect for your loved ones. ️ \nDate:\n5-7 Dec 2025\n12–14 Dec 2025\n19–21 Dec 2025 \nVenue: MRT Tunnel\, MyTOWNKL \nTime: 10AM – 10PM \nDon’t miss our free gift-wrapping services to make your presents extra special!
URL:https://kleventscalendar.my/event/the-holiday-pop-up-2025-mytownkl/
LOCATION:MyTOWN Shopping Centre\, 6\, Jalan Cochrane\, Seksyen 90\, Kuala Lumpur\, Wilayah Persekutuan Kuala Lumpur\, 55100\, Malaysia
CATEGORIES:Bazaar, Fair & Market
END:VEVENT
BEGIN:VEVENT
DTSTART;TZID=Asia/Kuala_Lumpur:20251204T100000
DTEND;TZID=Asia/Kuala_Lumpur:20260104T220000
DTSTAMP:20260423T003847
CREATED:20251127T130314Z
LAST-MODIFIED:20251127T130452Z
UID:10000382-1764842400-1767564000@kleventscalendar.my
SUMMARY:Mytown Christmas Bazaar 2025
DESCRIPTION:
URL:https://kleventscalendar.my/event/mytown-christmas-bazaar/
LOCATION:MyTOWN Shopping Centre\, 6\, Jalan Cochrane\, Seksyen 90\, Kuala Lumpur\, Wilayah Persekutuan Kuala Lumpur\, 55100\, Malaysia
CATEGORIES:Bazaar, Fair & Market
END:VEVENT
BEGIN:VEVENT
DTSTART;TZID=Asia/Kuala_Lumpur:20251004T100000
DTEND;TZID=Asia/Kuala_Lumpur:20251005T230000
DTSTAMP:20260423T003847
CREATED:20251003T150218Z
LAST-MODIFIED:20251003T150218Z
UID:10000342-1759572000-1759705200@kleventscalendar.my
SUMMARY:Fiesta Rakan Muda 2025 @ MyTOWNKL
DESCRIPTION:Fiesta Rakan Muda 2025 @ MyTOWNKL! \nFor the first time ever\, MyTOWNKL will host Fiesta Rakan Muda 2025 – a youth lifestyle festival that brings together 10 lifestyles in 1 venue! This is not just an entertainment fair\, but a platform for youth to showcase talent\, creativity\, and positive energy. \nWhat to expect? \nFrom the stylish Next Gen Runway 2025\, the tech-powered RoboSoccer Challenge\, to the adventurous Nature’s Treasure Hunt – there’s something for everyone. Plus\, this year Fiesta Rakan Muda collaborates with PAJSK (KPM) where students can collect co-curricular points & certificates through their participation! \nTop Highlight – Rakan Muda Concert! \nGet ready for an electrifying weekend with performances by:\nAra Johari\, Yonny Boii\, Nazu & Fahimi\, Roshini\, Bihzhu\, Afieq Shazwan\, Balan Kash & Dukes! \nDate : 4 & 5 October 2025 (Sat & Sun)\nVenue : Town Park\, MyTOWNKL \nAdmission is FREE + don’t miss the chance to grab an exclusive limited-edition Rakan Muda kit! \nCome with friends\, enjoy the vibes\, and celebrate youth at #FiestaRakanMuda2025! \nMore info: https://mytownkl.com.my/happening/fiesta-rakan-muda
URL:https://kleventscalendar.my/event/fiesta-rakan-muda-2025-mytownkl/
LOCATION:MyTOWN Shopping Centre\, 6\, Jalan Cochrane\, Seksyen 90\, Kuala Lumpur\, Wilayah Persekutuan Kuala Lumpur\, 55100\, Malaysia
CATEGORIES:Community,Entertainment,Health & Wellness
END:VEVENT
BEGIN:VEVENT
DTSTART;TZID=Asia/Kuala_Lumpur:20250910T200000
DTEND;TZID=Asia/Kuala_Lumpur:20250910T220000
DTSTAMP:20260423T003847
CREATED:20250908T165444Z
LAST-MODIFIED:20250908T165605Z
UID:10000308-1757534400-1757541600@kleventscalendar.my
SUMMARY:JFF 2025 Special Screening: Diamonds in the Sand
DESCRIPTION:Come and join us for a Special Screening of “Diamonds in the Sand” on September 10\, 2025 at GSC MyTown! This film\, starring Lily FRANKY\, is a co-production between Japan\, the Philippines\, and Malaysia! *Bookings open 3 September 9AM! \nSynopsis \nYoji is a divorced Japanese salaryman living alone in Tokyo. After the loss of his caring mother\, he faces an empty life without any meaningful relationship. A chance encounter with Minerva\, a Filipina who works as a caregiver in Japan to support her daughter\, prompts Yoji to look at his situation in a new light. Meanwhile\, he discovers the decomposing body of an elderly neighbor\, whose name he doesn’t know. His death is ruled to be a lonely death. Not wanting to suffer the same fate\, Yoji throws caution and follows Minerva to Manila\, the capital of the Philippines. \nScreening Information \nDate: 10 September 2025 (Wednesday)\nTime: 8PM\nVenue: GSC MyTOWN (Hall 3)\, Kuala Lumpur \nAdmission/Bookings: Admission is FREE. Prior booking is REQUIRED.\nhttps://www.cloudjoi.com/shows/4154-jff-2025-special-screening-diamonds-in-the-sand
URL:https://kleventscalendar.my/event/jff-2025-special-screening-diamonds-in-the-sand/
LOCATION:MyTOWN Shopping Centre\, 6\, Jalan Cochrane\, Seksyen 90\, Kuala Lumpur\, Wilayah Persekutuan Kuala Lumpur\, 55100\, Malaysia
CATEGORIES:Entertainment
END:VEVENT
BEGIN:VEVENT
DTSTART;TZID=Asia/Kuala_Lumpur:20250830T100000
DTEND;TZID=Asia/Kuala_Lumpur:20250831T220000
DTSTAMP:20260423T003847
CREATED:20250818T161154Z
LAST-MODIFIED:20250818T161154Z
UID:10000252-1756548000-1756677600@kleventscalendar.my
SUMMARY:Kita Local x MyTOWNKL (30 & 31 Aug)
DESCRIPTION:Celebrate Merdeka Month in our newest event space\, right in the bustling MRT Tunnel of MyTOWNKL! With heavy foot traffic and unbeatable visibility\, it’s the perfect place to discover local treasures\, enjoy festive vibes\, and take part in exciting activities for all ages. \nFrom handcrafted finds to homegrown treats\, come soak in the energy\, support our amazing local vendors\, and celebrate what it means to be truly Malaysian. \nDate:\n– 16 & 17 August\n– 23 & 24 August\n– 30 & 31 August \nTime: 10am – 10pm \nVenue: MRT Tunnel\, MyTOWNKL
URL:https://kleventscalendar.my/event/kita-local-x-mytownkl-30-31-aug/
LOCATION:MyTOWN Shopping Centre\, 6\, Jalan Cochrane\, Seksyen 90\, Kuala Lumpur\, Wilayah Persekutuan Kuala Lumpur\, 55100\, Malaysia
CATEGORIES:Community
END:VEVENT
BEGIN:VEVENT
DTSTART;TZID=Asia/Kuala_Lumpur:20250823T100000
DTEND;TZID=Asia/Kuala_Lumpur:20250824T220000
DTSTAMP:20260423T003847
CREATED:20250818T160545Z
LAST-MODIFIED:20250818T161156Z
UID:10000251-1755943200-1756072800@kleventscalendar.my
SUMMARY:Kita Local x MyTOWNKL (23 & 24 Aug)
DESCRIPTION:Celebrate Merdeka Month in our newest event space\, right in the bustling MRT Tunnel of MyTOWNKL! With heavy foot traffic and unbeatable visibility\, it’s the perfect place to discover local treasures\, enjoy festive vibes\, and take part in exciting activities for all ages. \nFrom handcrafted finds to homegrown treats\, come soak in the energy\, support our amazing local vendors\, and celebrate what it means to be truly Malaysian. \nDate:\n– 16 & 17 August\n– 23 & 24 August\n– 30 & 31 August \nTime: 10am – 10pm \nVenue: MRT Tunnel\, MyTOWNKL
URL:https://kleventscalendar.my/event/kita-local-x-mytownkl-23-24-aug/
LOCATION:MyTOWN Shopping Centre\, 6\, Jalan Cochrane\, Seksyen 90\, Kuala Lumpur\, Wilayah Persekutuan Kuala Lumpur\, 55100\, Malaysia
CATEGORIES:Community
END:VEVENT
END:VCALENDAR