BEGIN:VCALENDAR
VERSION:2.0
PRODID:-//KL Events Calendar - ECPv6.15.20//NONSGML v1.0//EN
CALSCALE:GREGORIAN
METHOD:PUBLISH
X-ORIGINAL-URL:https://kleventscalendar.my
X-WR-CALDESC:Events for KL Events Calendar
REFRESH-INTERVAL;VALUE=DURATION:PT1H
X-Robots-Tag:noindex
X-PUBLISHED-TTL:PT1H
BEGIN:VTIMEZONE
TZID:Asia/Kuala_Lumpur
BEGIN:STANDARD
TZOFFSETFROM:+0800
TZOFFSETTO:+0800
TZNAME:+08
DTSTART:20250101T000000
END:STANDARD
END:VTIMEZONE
BEGIN:VEVENT
DTSTART;TZID=Asia/Kuala_Lumpur:20260426T133000
DTEND;TZID=Asia/Kuala_Lumpur:20260426T163000
DTSTAMP:20260420T180921
CREATED:20260420T043538Z
LAST-MODIFIED:20260420T043854Z
UID:10000677-1777210200-1777221000@kleventscalendar.my
SUMMARY:Malaysia 24 Festive Drums National Competition 2026 (Central Region) 第七届马来西亚24节令鼓全马精英赛（中马区域赛）
DESCRIPTION:第四站，中马集结 🔥\n2026年第七届马来西亚二十四节令鼓全国精英赛（中马区域赛）正式启动 \n本赛事汇聚来自  雪兰莪、吉隆坡及布城 的优秀中学鼓队，\n以鼓艺为媒介，在同一舞台上切磋交流 \n诚邀各界鼓艺爱好者、教育工作者与民众\n一同走进现场，感受二十四节令鼓所承载的纪律、力量与文化精神 \n📌 赛事资讯\n2026年第七届马来西亚二十四节令鼓全国精英赛（中马区域赛） \n🗓 比赛日期：2026 年 4 月 26 日（星期日）\n🕖 比赛时间：下午 2 时 30分\n📍 比赛地点：巴生滨华中学 \n主催单位\n马来西亚教育部副部长办公室 \n联合主办单位\n马来西亚教育部体育、课外活动及艺术部门（BSKK）\n马来西亚二十四节令鼓协会\n灵魂震动 \n更多详情，请联系：\n017 662 8252\n012 675 7276
URL:https://kleventscalendar.my/event/malaysia-24-festive-drums-national-competition-2026-central-region-%e7%ac%ac%e4%b8%83%e5%b1%8a%e9%a9%ac%e6%9d%a5%e8%a5%bf%e4%ba%9a24%e8%8a%82%e4%bb%a4%e9%bc%93%e5%85%a8%e9%a9%ac%e7%b2%be%e8%8b%b1/
LOCATION:Pin Hwa High School\, Klang 巴生滨华中学\, 13\, Jalan Goh Hock Huat\, Kawasan 18\, Klang\, Selangor\, 41400\, Malaysia
CATEGORIES:Culture & Heritage,Performing Arts
ATTACH;FMTTYPE=image/png:https://kleventscalendar.my/wp-content/uploads/2026/04/Mlaaysia-24-Festive-Drums-National-Competition-Central-Region.png
END:VEVENT
END:VCALENDAR