BEGIN:VCALENDAR
VERSION:2.0
PRODID:-//KL Events Calendar - ECPv6.15.20//NONSGML v1.0//EN
CALSCALE:GREGORIAN
METHOD:PUBLISH
X-WR-CALNAME:KL Events Calendar
X-ORIGINAL-URL:https://kleventscalendar.my
X-WR-CALDESC:Events for KL Events Calendar
REFRESH-INTERVAL;VALUE=DURATION:PT1H
X-Robots-Tag:noindex
X-PUBLISHED-TTL:PT1H
BEGIN:VTIMEZONE
TZID:Asia/Kuala_Lumpur
BEGIN:STANDARD
TZOFFSETFROM:+0800
TZOFFSETTO:+0800
TZNAME:+08
DTSTART:20250101T000000
END:STANDARD
END:VTIMEZONE
BEGIN:VEVENT
DTSTART;TZID=Asia/Kuala_Lumpur:20260614T193000
DTEND;TZID=Asia/Kuala_Lumpur:20260614T223000
DTSTAMP:20260423T205331
CREATED:20260420T062012Z
LAST-MODIFIED:20260420T062012Z
UID:10000689-1781465400-1781476200@kleventscalendar.my
SUMMARY:20th Concert of Chinese Traditional Orchestra ARTISUKMA UKM
DESCRIPTION:A heartfelt concert blending traditional and modern melodies. Featuring student-arranged pieces inspired by popular works and cultural fusion\, Overture To Home invites you on a nostalgic journey home through a uniquely Malaysian sound. \n一场融合传统与现代的华乐演奏会，由学生编排改编，结合流行元素与多元文化特色。《归馨》带你在音乐中踏上一段温暖的归家之旅。
URL:https://kleventscalendar.my/event/20th-concert-of-chinese-traditional-orchestra-artisukma-ukm/
LOCATION:Pusat Siswazah UKM\, Bangi\, Universiti Kebangsaan Malaysia (UKM)\, Jalan Reko\, Bangi\, Selangor\, 43600\, Malaysia
CATEGORIES:Performing Arts
ATTACH;FMTTYPE=image/jpeg:https://kleventscalendar.my/wp-content/uploads/2026/04/20th-Concert-of-Chinese-Traditional-Orchestra-ARTISUKMA-UKM.jpeg
END:VEVENT
END:VCALENDAR